BEGIN:VCALENDAR
VERSION:2.0
PRODID:-//SZOLNOKI MŰVÉSZTELEP - ECPv5.1.5//NONSGML v1.0//EN
CALSCALE:GREGORIAN
METHOD:PUBLISH
X-WR-CALNAME:SZOLNOKI MŰVÉSZTELEP
X-ORIGINAL-URL:http://szolnokimuvesztelep.com
X-WR-CALDESC:Events for SZOLNOKI MŰVÉSZTELEP
BEGIN:VTIMEZONE
TZID:UTC
BEGIN:STANDARD
TZOFFSETFROM:+0000
TZOFFSETTO:+0000
TZNAME:UTC
DTSTART:20180101T000000
END:STANDARD
END:VTIMEZONE
BEGIN:VEVENT
DTSTART;TZID=UTC:20180415T160000
DTEND;TZID=UTC:20180415T160000
DTSTAMP:20260420T110919
CREATED:20180218T180330Z
LAST-MODIFIED:20180218T180330Z
UID:3201-1523808000-1523808000@szolnokimuvesztelep.com
SUMMARY:SZKOK IVÁN KIÁLLÍTÁSA ZÁR
DESCRIPTION:\n\n	Kapcsolódó bejegyzések\n
URL:http://szolnokimuvesztelep.com/event/szkok-ivan-kiallitasa-zar/
LOCATION:Szolnoki Művésztelep\, Gutenberg tér 12/12.\, Szolnok\, 5000\, Magyarország
ATTACH;FMTTYPE=image/jpeg:http://szolnokimuvesztelep.com/wp-content/uploads/2018/02/szkok-ivan_kis.jpg
END:VEVENT
END:VCALENDAR