BEGIN:VCALENDAR
VERSION:2.0
PRODID:-//SZOLNOKI MŰVÉSZTELEP - ECPv5.1.5//NONSGML v1.0//EN
CALSCALE:GREGORIAN
METHOD:PUBLISH
X-WR-CALNAME:SZOLNOKI MŰVÉSZTELEP
X-ORIGINAL-URL:http://szolnokimuvesztelep.com
X-WR-CALDESC:Events for SZOLNOKI MŰVÉSZTELEP
BEGIN:VTIMEZONE
TZID:UTC
BEGIN:STANDARD
TZOFFSETFROM:+0000
TZOFFSETTO:+0000
TZNAME:UTC
DTSTART:20190101T000000
END:STANDARD
END:VTIMEZONE
BEGIN:VEVENT
DTSTART;TZID=UTC:20190109T080000
DTEND;TZID=UTC:20190109T170000
DTSTAMP:20260420T111511
CREATED:20190109T132054Z
LAST-MODIFIED:20190109T132054Z
UID:4799-1547020800-1547053200@szolnokimuvesztelep.com
SUMMARY:Jelenlét - a Szolnoki Művésztelep kiállítása a Halász-kastélyban
DESCRIPTION:  \n  \n  \n\n\n	Kapcsolódó bejegyzések\n
URL:http://szolnokimuvesztelep.com/event/jelenlet-a-szolnoki-muvesztelep-kiallitasa-a-halasz-kastelyban/
LOCATION:Halász-kastély\, Deák Ferenc utca 10.\, Kápolnásnyék\, 2475\, Magyarország
ATTACH;FMTTYPE=image/gif:http://szolnokimuvesztelep.com/wp-content/uploads/2019/01/halasz_honlap.gif
END:VEVENT
END:VCALENDAR