BEGIN:VCALENDAR
VERSION:2.0
PRODID:-//SZOLNOKI MŰVÉSZTELEP - ECPv5.1.5//NONSGML v1.0//EN
CALSCALE:GREGORIAN
METHOD:PUBLISH
X-WR-CALNAME:SZOLNOKI MŰVÉSZTELEP
X-ORIGINAL-URL:http://szolnokimuvesztelep.com
X-WR-CALDESC:Events for SZOLNOKI MŰVÉSZTELEP
BEGIN:VTIMEZONE
TZID:UTC
BEGIN:STANDARD
TZOFFSETFROM:+0000
TZOFFSETTO:+0000
TZNAME:UTC
DTSTART:20180101T000000
END:STANDARD
END:VTIMEZONE
BEGIN:VEVENT
DTSTART;TZID=UTC:20181019T080000
DTEND;TZID=UTC:20181019T170000
DTSTAMP:20260420T213805
CREATED:20190122T131455Z
LAST-MODIFIED:20190122T131455Z
UID:4867-1539936000-1539968400@szolnokimuvesztelep.com
SUMMARY:Holdfénygyűjtő - Szabó György kiállítása
DESCRIPTION:Holdfénygyűjtő – Szabó György Munkácsy-díjas szobrászművész kiállítása\nHelye: Szoboszlai Galéria (5000 Szolnok\, Jókai u. 1.)\nIdeje: 2018. október 19. péntek\, 17.00 óra\nMegnyitja: Borsos Mihály\, az Art Salon Társalgó Galéria vezetője\nMegtekinthető: 2018. november 30-ig (H-P: 10.00-17.00; a Galéria november 1-4. között zárva tart) \n\n\n	Kapcsolódó bejegyzések\n
URL:http://szolnokimuvesztelep.com/event/holdfenygyujto-szabo-gyorgy-kiallitasa/
END:VEVENT
END:VCALENDAR