BEGIN:VCALENDAR
VERSION:2.0
PRODID:-//SZOLNOKI MŰVÉSZTELEP - ECPv5.1.5//NONSGML v1.0//EN
CALSCALE:GREGORIAN
METHOD:PUBLISH
X-WR-CALNAME:SZOLNOKI MŰVÉSZTELEP
X-ORIGINAL-URL:http://szolnokimuvesztelep.com/en/
X-WR-CALDESC:Events for SZOLNOKI MŰVÉSZTELEP
BEGIN:VTIMEZONE
TZID:UTC
BEGIN:STANDARD
TZOFFSETFROM:+0000
TZOFFSETTO:+0000
TZNAME:UTC
DTSTART:20170101T000000
END:STANDARD
END:VTIMEZONE
BEGIN:VEVENT
DTSTART;VALUE=DATE:20171225
DTEND;VALUE=DATE:20171227
DTSTAMP:20260420T124536
CREATED:20171208T125457Z
LAST-MODIFIED:20171209T174317Z
UID:2215-1514160000-1514332799@szolnokimuvesztelep.com
SUMMARY:Karácsony
DESCRIPTION:Boldog Karácsonyt kívánunk! \n\n\n	Related\n
URL:http://szolnokimuvesztelep.com/en/event/karacsony/
ATTACH;FMTTYPE=image/jpeg:http://szolnokimuvesztelep.com/wp-content/uploads/2017/12/kfa2.jpg
END:VEVENT
END:VCALENDAR